Workbook

Sheet 3. Facilities - removed
A1: INSTRUCTIONS
A2: Review the pre-populated information below. The information is based on the locations listed in the charter contract.
A3: If you are correcting information, please change the text to RED. See row 6 for example. Any requests to add or remove a facility should follow the amendment process.
A4: Location | B4: Address | C4: Island | D4: Phone number | E4: Grades Served at Location | F4: Type | G4: Status | H4: Rationale for request
A5: Location 1: No changes | B5: 1164 Bishop Street, Suite 1100, Honolulu, HI 96813 | C5: Oahu | D5: 808-586-3775 | E5: K-12 | F5: Brick and Mortar | G5: No changes
A6: Location 2: Changes | B6: 1165 Bishop Street, Suite 1100, Honolulu, HI 96813 | C6: Oahu | D6: 808-586-3775 | E6: K-6 | F6: Brick and Mortar | G6: Updated information | H6: We have modified the grades served at the location to reflect: K-6.
A7: Location 3: Remove | B7: 1166 Bishop Street, Suite 1100, Honolulu, HI 96813 | C7: Oahu | D7: 808-586-3775 | E7: K-6 | F7: Virtual Blended Non-instructional site | G7: Remove location | H7: We no longer have a virtual program and are no longer leasing this site.
A8: Location 1
A9: Location 2
A10: Location 3
A11: Location 4
A12: Location 5
A13: Location 6
A14: Location 7
A15: Location 8
A16: Location 9
A17: Location 10
A18: Location 11
A19: Location 12
... A22: Location 15

Sheet GB Roster
A1: Name | B1: Position | C1: Term Start Date | D1: Term End Date | E1: Are you currently or have you ever been any of the following? | F1: If you selected any group, please provide the following information for the related affiliation: | G1: Do you serve on another school’s governing board? | H1: Do you serve on your school’s affiliated non-profit organization board and/or an employee of the affiliated non-profit organization?
E2: 1. A current or former employee 2. A current or former vendor or contractor 3. A relative of a current or former employee, vendor, or contractor You may select all that apply. | F2: 1. Your position title (if applicable). If former, include the last date of employment. 2. Name the vendor or contractor (if applicable). Provide a description of services you or they provided to the school. If former, include the last date of service. 3. Name and position title of the employee, vendor, or contractor If former, include the last date of employment or service. | G2: If yes, indicate the school name and position. | H2: If so, provide the name and position. | J2: Drop down topions
A3: Happy Person | B3: Chair | C3: 45474 | D3: 46568 | E3: No
A4: Joyful Person | B4: Member | C4: 45474 | D4: 46568 | E4: Current employee, "Relative of a former employee, vendor or contractor" | F4: I am the school's SASA. I am a relative of former employee Magic Person. Magic's last day of employment was June 2020.
J5: 1. Current or former employee
J6: 2. Current or former vendor or contractor
J7: 3. Relative of current or former employee, vendor or contractor
J8: 4. All apply
J9: 5. 1 and 2 apply
J10: 6. 1 and 3 apply
J11: 7. 2 and 3 apply
J12: None

Sheet Enrollment
A1: School Enrollment
A2: *Final Enrollment Count must include the total number of students in blended and virtual programs if offered.
A3: *Leave blank if you do not serve that grade and/or program type (Virtual, Blended or Pre-K)
B4: Prior Year | D4: Current Year | G4: Projected Enrollment
A5: School Year | B5: 2026-2027 | C5: 2026-2027 | D5: 2027-2028 | E5: 2027-2028 | F5: 2027-2028 | G5: 2028-2029 | H5: 2029-2030 | I5: 2030-2031 | J5: 2031-2032 | K5: 2032-2033 | L5: use the drop down to modify the years | N5: 2026-2027
A6: Type | B6: Projected Enrollment | C6: Final Enrollment Count* | D6: Projected Enrollment | E6: # of students waitlisted | F6: Final Enrollment Count* | G6: Projected Enrollment | H6: Projected Enrollment | I6: Projected Enrollment | J6: Projected Enrollment | K6: Projected Enrollment | N6: 2027-2028
A7: Pre-K | N7: 2028-2029
A8: Grade K Brick and Mortar | N8: 2029-2030
A9: Grade K Virtual | N9: 2030-2031
A10: Grade K Blended | N10: 2031-2032
A11: Grade 1 Brick and Mortar | N11: 2032-2033
A12: Grade 1 Virtual | N12: 2033-2034
A13: Grade 1 Blended | N13: 2034-2035
A14: Grade 2 Brick and Mortar | N14: 2035-2026
A15: Grade 2 Virtual
A16: Grade 2 Blended
A17: Grade 3 Brick and Mortar
A18: Grade 3 Virtual
A19: Grade 3 Blended
A20: Grade 4 Brick and Mortar
A21: Grade 4 Virtual
A22: Grade 4 Blended
A23: Grade 5 Brick and Mortar
A24: Grade 5 Virtual
A25: Grade 5 Blended
A26: Grade 6 Brick and Mortar
... A46: Grade 12 Blended
A47: Total enrollment (With PreK) | B47: =SUM(B7:B46) -> 0 | C47: =SUM(C7:C46) -> 0 | D47: =SUM(D7:D46) -> 0 | E47: =SUM(E7:E46) -> 0 | F47: =SUM(F7:F46) -> 0 | G47: =SUM(G7:G46) -> 0 | H47: =SUM(H7:H46) -> 0 | I47: =SUM(I7:I46) -> 0 | ... K47: =SUM(K7:K46) -> 0 | L47: Calculated automatically. No action required
A48: Enrollment (without PreK) | G48: =SUM(G8:G46) -> 0 | H48: =SUM(H8:H46) -> 0 | I48: =SUM(I8:I46) -> 0 | J48: =SUM(J8:J46) -> 0 | K48: =SUM(K8:K46) -> 0 | L48: Calculated automatically. No action required
A49: School Year | B49: 2026-2027 | C49: 2026-2027 | D49: 2027-2028 | E49: 2027-2028 | F49: 2027-2028 | G49: 2028-2029 | H49: 2029-2030 | I49: 2030-2031 | J49: 2031-2032 | K49: 2032-2033
A50: Type | B50: Projected Enrollment | C50: Final Enrollment Count* | D50: Projected Enrollment | E50: # of students waitlisted | F50: Final Enrollment Count* | G50: Projected Enrollment | H50: Projected Enrollment | I50: Projected Enrollment | J50: Projected Enrollment | K50: Projected Enrollment

Sheet Financial Staffing Plan
A1: INSTRUCTIONS: Complete the staffing plan by listing each current and anticipated position type (e.g., Teacher, Principal, Counselor, Office Manager) for each year. For each position type, enter the total FTE and total annual salary budget for all employees in that position type. In Column L, provide a justification describing why the position is needed and how it supports school operations and student outcomes. Include both instructional and non-instructional positions, as applicable.
A2: Staffing
B3: Year 1 | D3: Year 2 | F3: Year 3 | H3: Year 4 | J3: Year 5
A4: Position Title & Barganing Unit (BU) | B4: FTE | C4: Total Salary Budgeted | D4: FTE | E4: Total Salary Budgeted | F4: FTE | G4: Total Salary Budgeted | H4: FTE | I4: Total Salary Budgeted | J4: FTE | K4: Total Salary Budgeted | L4: Justification/Comments
A5: Executive Director (BU06) | M5: Fill in the position title in cell A5, if applicable. Complete cells C5:L5. Enter I for any year in which there is no salary expense for this position.The yellow highlighting will disappear once all required cells have been completed.
M6: Fill in the position title in cell A6, if applicable. Complete cells C6:L6. Enter I for any year in which there is no salary expense for this position.The yellow highlighting will disappear once all required cells have been completed.
M7: Fill in the position title in cell A7, if applicable. Complete cells C7:L7. Enter I for any year in which there is no salary expense for this position.The yellow highlighting will disappear once all required cells have been completed.
M8: Fill in the position title in cell A8, if applicable. Complete cells C8:L8. Enter I for any year in which there is no salary expense for this position.The yellow highlighting will disappear once all required cells have been completed.
M9: Fill in the position title in cell A9, if applicable. Complete cells C5:L9. Enter I for any year in which there is no salary expense for this position.The yellow highlighting will disappear once all required cells have been completed.
M10: Fill in the position title in cell A10, if applicable. Complete cells C10:L10. Enter I for any year in which there is no salary expense for this position.The yellow highlighting will disappear once all required cells have been completed.
M11: Fill in the position title in cell A11, if applicable. Complete cells C11:L11. Enter I for any year in which there is no salary expense for this position.The yellow highlighting will disappear once all required cells have been completed.
M12: Fill in the position title in cell A12, if applicable. Complete cells C12:L12. Enter I for any year in which there is no salary expense for this position.The yellow highlighting will disappear once all required cells have been completed.
M13: Fill in the position title in cell A13, if applicable. Complete cells C13:L13. Enter I for any year in which there is no salary expense for this position.The yellow highlighting will disappear once all required cells have been completed.
M14: Fill in the position title in cell A14, if applicable. Complete cells C14:L14. Enter I for any year in which there is no salary expense for this position.The yellow highlighting will disappear once all required cells have been completed.
M15: Fill in the position title in cell A15, if applicable. Complete cells C15:L15. Enter I for any year in which there is no salary expense for this position.The yellow highlighting will disappear once all required cells have been completed.
M16: Fill in the position title in cell A16, if applicable. Complete cells C16:L16. Enter I for any year in which there is no salary expense for this position.The yellow highlighting will disappear once all required cells have been completed.
M17: Fill in the position title in cell A17, if applicable. Complete cells C17:L17. Enter I for any year in which there is no salary expense for this position.The yellow highlighting will disappear once all required cells have been completed.
M18: Fill in the position title in cell A18, if applicable. Complete cells C18:L18. Enter I for any year in which there is no salary expense for this position.The yellow highlighting will disappear once all required cells have been completed.
A19: Total | B19: =SUM(B5:B18) -> 0 | C19: =SUM(C5:C18) -> 0 | D19: =SUM(D5:D18) -> 0 | E19: =SUM(E5:E18) -> 0 | F19: =SUM(F5:F18) -> 0 | G19: =SUM(G5:G18) -> 0 | H19: =SUM(H5:H18) -> 0 | I19: =SUM(I5:I18) -> 0 | ... K19: =SUM(K5:K18) -> 0 | M19: Calculated automatically. No action required

Sheet Year 1 Budget
A1: INSTRUCTIONS: The Revenue sources (A6 - A10) and Expenses (A14-A26) categories will auto-populate to the Year 2 - 5 Budget and Consolidated Budget sheets in the corresponding cells. The amounts (Column B) will also be auto-populated in the Consolidated Budget sheet. 1. Complete the Year 1 budget by including all anticipated expenses and identifying all revenue sources. 2. Provide a short justification for each line item in Column C. This justification should briefly explain the purpose of the expense, how the cost was determined. 3. Identify budget priority for the year and provide a brief explanation of how this priority aligns with its goals. 4. If the school operates a virtual or blended program, it must also list any specific expenses related solely to that program. Schools do not need to complete cells C5 or C13.
A2: YEAR 1 BUDGET
B3: YEAR 1 | C3: Justification/Comments
A4: Revenue
A5: State Per Pupil | B5: =(Enrollment!G48)*('Consolidated Budget'!B5) -> 0 | C5: -- | D5: Calculated automatically. No action required
D6: Complete A6:C6, if applicable. The yellow highlighting will disappear once all required cells have been completed.
D7: Complete A7:C7, if applicable. The yellow highlighting will disappear once all required cells have been completed.
D8: Complete A8:C8, if applicable. The yellow highlighting will disappear once all required cells have been completed.
D9: Complete A9:C9, if applicable. The yellow highlighting will disappear once all required cells have been completed.
D10: Complete A10:C10, if applicable. The yellow highlighting will disappear once all required cells have been completed.
A11: Total Revenue | B11: =SUM(B5:B10) -> 0 | D11: Calculated automatically. No action required
A12: Expenses | C12: Justification/Comments
A13: Salaries | B13: ='Financial Staffing Plan'!C19 -> 0 | C13: -- | D13: Calculated automatically. No action required
D14: Complete A14:C14, if applicable. The yellow highlighting will disappear once all required cells have been completed.
D15: Complete A15:C15, if applicable. The yellow highlighting will disappear once all required cells have been completed.
D16: Complete A16:C16, if applicable. The yellow highlighting will disappear once all required cells have been completed.
D17: Complete A17:C17, if applicable. The yellow highlighting will disappear once all required cells have been completed.
D18: Complete A18:C18, if applicable. The yellow highlighting will disappear once all required cells have been completed.
D19: Complete A19:C19, if applicable. The yellow highlighting will disappear once all required cells have been completed.
D20: Complete A20:C20, if applicable. The yellow highlighting will disappear once all required cells have been completed.
D21: Complete A21:C21, if applicable. The yellow highlighting will disappear once all required cells have been completed.
D22: Complete A22:C22, if applicable. The yellow highlighting will disappear once all required cells have been completed.
D23: Complete A23:C23, if applicable. The yellow highlighting will disappear once all required cells have been completed.
D24: Complete A24:C24, if applicable. The yellow highlighting will disappear once all required cells have been completed.
D25: Complete A25:C25, if applicable. The yellow highlighting will disappear once all required cells have been completed.
D26: Complete A26:C26, if applicable. The yellow highlighting will disappear once all required cells have been completed.
A27: Total Expenses | B27: =SUM(B13:B26) -> 0 | D27: Calculated automatically. No action required
A28: YEAR 1 PRIORITY (Required)
A29: (narrative) | D29: Complete the Year 1 Priority (Narrative)
A30: Specific Virtual/ Blended Expenses | C30: Justification/Comments
D31: Complete A31:C31, if applicable. The yellow highlighting will disappear once all required cells have been completed.
D32: Complete A32:C32, if applicable. The yellow highlighting will disappear once all required cells have been completed.
D33: Complete A33:C33, if applicable. The yellow highlighting will disappear once all required cells have been completed.
D34: Complete A34:C34, if applicable. The yellow highlighting will disappear once all required cells have been completed.
D35: Complete A35:C35, if applicable. The yellow highlighting will disappear once all required cells have been completed.
A36: Total Virtual Blended Expenses | B36: =SUM(B31:B35) -> 0 | D36: Calculated automatically. No action required
A37: Overall Total Expenses | B37: =B36+B27 -> 0 | D37: Calculated automatically. No action required
A38: Net Contribution | B38: =B11-B37 -> 0 | D38: Calculated automatically. No action required

Sheet Year 2 Budget
A1: INSTRUCTIONS: The Revenue sources (A6 - A10) and Expenses (A14-A26) categories have been auto-populated from the Year 1 Budget sheet. The amounts (Column B) entered in Year 2 will be auto-populated in the Consolidated Budget sheet. 1. Complete the Year 2 budget amounts (column B) by including all anticipated expenses and identifying all revenue sources. If there is no revenue or expense for that year, enter "0". 2. Provide a short justification for each line item in Column C. This justification should briefly explain the purpose of the expense, how the cost was determined. 3. Identify budget priority for the year and provide a brief explanation of how this priority aligns with its goals. 4. If the school operates a virtual or blended program, it must also list any specific expenses related solely to that program. Schools do not need to complete cells C5 or C13.
A2: YEAR 2 BUDGET
B3: YEAR 2 | C3: Justification/Comments
A4: Revenue
A5: State Per Pupil | B5: =(Enrollment!H48)*('Consolidated Budget'!B5) -> 0 | C5: -- | D5: Calculated automatically. No action required
A6: =IF(OR('Year 1 Budget'!A6="", 'Year 1 Budget'!A6=0),"",'Year 1 Budget'!A6) | D6: A6 has been automatically populated from Year 1 Budget A6. Complete B6:C6. If there is no revenue in this particular year, enter "0". The yellow highlighting will disappear once all required cells have been completed.
A7: =IF(OR('Year 1 Budget'!A7="", 'Year 1 Budget'!A7=0),"",'Year 1 Budget'!A7) | D7: A7 has been automatically populated from Year 1 Budget A7. Complete B7:C7. If there is no revenue in this particular year, enter "0". The yellow highlighting will disappear once all required cells have been completed.
A8: =IF(OR('Year 1 Budget'!A8="", 'Year 1 Budget'!A8=0),"",'Year 1 Budget'!A8) | D8: A8 has been automatically populated from Year 1 Budget A8. Complete B8:C8. If there is no revenue in this particular year, enter "0". The yellow highlighting will disappear once all required cells have been completed.
A9: =IF(OR('Year 1 Budget'!A9="", 'Year 1 Budget'!A9=0),"",'Year 1 Budget'!A9) | D9: A9 has been automatically populated from Year 1 Budget A9. Complete B9:C9. If there is no revenue in this particular year, enter "0". The yellow highlighting will disappear once all required cells have been completed.
A10: =IF(OR('Year 1 Budget'!A10="", 'Year 1 Budget'!A10=0),"",'Year 1 Budget'!A10) | D10: A10 has been automatically populated from Year 1 Budget A10. Complete B10:C10. If there is no revenue in this particular year, enter "0". The yellow highlighting will disappear once all required cells have been completed.
A11: Total Revenue | B11: =SUM(B5:B10) -> 0 | D11: Calculated automatically. No action required
A12: Expenses | C12: Justification/Comments
A13: Salaries | B13: ='Financial Staffing Plan'!E19 -> 0 | C13: -- | D13: Calculated automatically. No action required
A14: =IF(OR('Year 1 Budget'!A14="", 'Year 1 Budget'!A14=0),"",'Year 1 Budget'!A14) | D14: A14 has been automatically populated from Year 1 Budget A14. Complete B14:C14. If there is no expense in this particular year, enter "0". The yellow highlighting will disappear once all required cells have been completed.
A15: =IF(OR('Year 1 Budget'!A15="", 'Year 1 Budget'!A15=0),"",'Year 1 Budget'!A15) | D15: A15 has been automatically populated from Year 1 Budget A15. Complete B15:C15. If there is no expense in this particular year, enter "0". The yellow highlighting will disappear once all required cells have been completed.
A16: =IF(OR('Year 1 Budget'!A16="", 'Year 1 Budget'!A16=0),"",'Year 1 Budget'!A16) | D16: A16 has been automatically populated from Year 1 Budget A16. Complete B16:C16. If there is no expense in this particular year, enter "0". The yellow highlighting will disappear once all required cells have been completed.
A17: =IF(OR('Year 1 Budget'!A17="", 'Year 1 Budget'!A17=0),"",'Year 1 Budget'!A17) | D17: A17 has been automatically populated from Year 1 Budget A17. Complete B17:C17. If there is no expense in this particular year, enter "0". The yellow highlighting will disappear once all required cells have been completed.
A18: =IF(OR('Year 1 Budget'!A18="", 'Year 1 Budget'!A18=0),"",'Year 1 Budget'!A18) | D18: A18 has been automatically populated from Year 1 Budget A18. Complete B18:C18. If there is no expense in this particular year, enter "0". The yellow highlighting will disappear once all required cells have been completed.
A19: =IF(OR('Year 1 Budget'!A19="", 'Year 1 Budget'!A19=0),"",'Year 1 Budget'!A19) | D19: A19 has been automatically populated from Year 1 Budget A19. Complete B19:C19. If there is no expense in this particular year, enter "0". The yellow highlighting will disappear once all required cells have been completed.
A20: =IF(OR('Year 1 Budget'!A20="", 'Year 1 Budget'!A20=0),"",'Year 1 Budget'!A20) | D20: A20 has been automatically populated from Year 1 Budget A20. Complete B20:C20. If there is no expense in this particular year, enter "0". The yellow highlighting will disappear once all required cells have been completed.
A21: =IF(OR('Year 1 Budget'!A21="", 'Year 1 Budget'!A21=0),"",'Year 1 Budget'!A21) | D21: A21 has been automatically populated from Year 1 Budget A21. Complete B21:C21. If there is no expense in this particular year, enter "0". The yellow highlighting will disappear once all required cells have been completed.
A22: =IF(OR('Year 1 Budget'!A22="", 'Year 1 Budget'!A22=0),"",'Year 1 Budget'!A22) | D22: A22 has been automatically populated from Year 1 Budget A22. Complete B22:C22. If there is no expense in this particular year, enter "0". The yellow highlighting will disappear once all required cells have been completed.
A23: =IF(OR('Year 1 Budget'!A23="", 'Year 1 Budget'!A23=0),"",'Year 1 Budget'!A23) | D23: A23 has been automatically populated from Year 1 Budget A23. Complete B23:C23. If there is no expense in this particular year, enter "0". The yellow highlighting will disappear once all required cells have been completed.
A24: =IF(OR('Year 1 Budget'!A24="", 'Year 1 Budget'!A24=0),"",'Year 1 Budget'!A24) | D24: A24 has been automatically populated from Year 1 Budget A24. Complete B24:C24. If there is no expense in this particular year, enter "0". The yellow highlighting will disappear once all required cells have been completed.
A25: =IF(OR('Year 1 Budget'!A25="", 'Year 1 Budget'!A25=0),"",'Year 1 Budget'!A25) | D25: A25 has been automatically populated from Year 1 Budget A25. Complete B25:C25. If there is no expense in this particular year, enter "0". The yellow highlighting will disappear once all required cells have been completed.
A26: =IF(OR('Year 1 Budget'!A26="", 'Year 1 Budget'!A26=0),"",'Year 1 Budget'!A26) | D26: A26 has been automatically populated from Year 1 Budget A26. Complete B26:C26. If there is no expense in this particular year, enter "0". The yellow highlighting will disappear once all required cells have been completed.
A27: Total Expenses | B27: =SUM(B13:B26) -> 0 | D27: Calculated automatically. No action required
A28: YEAR 2 PRIORITY (Required)
A29: (narrative) | D29: Complete the Year 2 Priority (Narrative)
A30: Specific Virtual/ Blended Expenses | C30: Justification/Comments
A31: =IF(OR('Year 1 Budget'!A31="", 'Year 1 Budget'!A31=0),"",'Year 1 Budget'!A31) | D31: A31 has been automatically populated from Year 1 Budget A31. Complete B31:C31. If there is no expense in this particular year, enter "0". The yellow highlighting will disappear once all required cells have been completed.
A32: =IF(OR('Year 1 Budget'!A32="", 'Year 1 Budget'!A32=0),"",'Year 1 Budget'!A32) | D32: A32 has been automatically populated from Year 1 Budget A32. Complete B32:C32. If there is no expense in this particular year, enter "0". The yellow highlighting will disappear once all required cells have been completed.
A33: =IF(OR('Year 1 Budget'!A33="", 'Year 1 Budget'!A33=0),"",'Year 1 Budget'!A33) | D33: A33 has been automatically populated from Year 1 Budget A33. Complete B33:C33. If there is no expense in this particular year, enter "0". The yellow highlighting will disappear once all required cells have been completed.
A34: =IF(OR('Year 1 Budget'!A34="", 'Year 1 Budget'!A34=0),"",'Year 1 Budget'!A34) | D34: A34 has been automatically populated from Year 1 Budget A34. Complete B34:C34. If there is no expense in this particular year, enter "0". The yellow highlighting will disappear once all required cells have been completed.
A35: =IF(OR('Year 1 Budget'!A35="", 'Year 1 Budget'!A35=0),"",'Year 1 Budget'!A35) | D35: A35 has been automatically populated from Year 1 Budget A35. Complete B35:C35. If there is no expense in this particular year, enter "0". The yellow highlighting will disappear once all required cells have been completed.
A36: Total Virtual Blended Expenses | B36: =SUM(B31:B35) -> 0 | D36: Calculated automatically. No action required
A37: Overall Total Expenses | B37: =B36+B27 -> 0 | D37: Calculated automatically. No action required
A38: Net Contribution | B38: =B11-B37 -> 0 | D38: Calculated automatically. No action required

Sheet Year 3 Budget
A1: INSTRUCTIONS: The Revenue sources (A6 - A10) and Expenses (A14-A26) categories have been auto-populated from the Year 1 Budget sheet. The amounts (Column B) entered in Year 3 will be auto-populated in the Consolidated Budget sheet. 1. Complete the Year 3 budget amounts (column B) by including all anticipated expenses and identifying all revenue sources. If there is no revenue or expense for that year, enter "0". 2. Provide a short justification for each line item in Column C. This justification should briefly explain the purpose of the expense, how the cost was determined. 3. Identify budget priority for the year and provide a brief explanation of how this priority aligns with its goals. 4. If the school operates a virtual or blended program, it must also list any specific expenses related solely to that program.
A2: YEAR 3 BUDGET
B3: YEAR 3 | C3: Justification/Comments
A4: Revenue
A5: State Per Pupil | B5: =(Enrollment!I48)*('Consolidated Budget'!B5) -> 0 | D5: Calculated automatically. No action required
A6: =IF(OR('Year 1 Budget'!A6="", 'Year 1 Budget'!A6=0),"",'Year 1 Budget'!A6) | D6: A6 has been automatically populated from Year 1 Budget A6. Complete B6:C6. If there is no revenue in this particular year, enter "0". The yellow highlighting will disappear once all required cells have been completed.
A7: =IF(OR('Year 1 Budget'!A7="", 'Year 1 Budget'!A7=0),"",'Year 1 Budget'!A7) | D7: A7 has been automatically populated from Year 1 Budget A7. Complete B7:C7. If there is no revenue in this particular year, enter "0". The yellow highlighting will disappear once all required cells have been completed.
A8: =IF(OR('Year 1 Budget'!A8="", 'Year 1 Budget'!A8=0),"",'Year 1 Budget'!A8) | D8: A8 has been automatically populated from Year 1 Budget A8. Complete B8:C8. If there is no revenue in this particular year, enter "0". The yellow highlighting will disappear once all required cells have been completed.
A9: =IF(OR('Year 1 Budget'!A9="", 'Year 1 Budget'!A9=0),"",'Year 1 Budget'!A9) | D9: A9 has been automatically populated from Year 1 Budget A9. Complete B9:C9. If there is no revenue in this particular year, enter "0". The yellow highlighting will disappear once all required cells have been completed.
A10: =IF(OR('Year 1 Budget'!A10="", 'Year 1 Budget'!A10=0),"",'Year 1 Budget'!A10) | D10: A10 has been automatically populated from Year 1 Budget A10. Complete B10:C10. If there is no revenue in this particular year, enter "0". The yellow highlighting will disappear once all required cells have been completed.
A11: Total Revenue | B11: =SUM(B5:B10) -> 0 | D11: Calculated automatically. No action required
A12: Expenses | C12: Justification/Comments
A13: Salaries | B13: ='Financial Staffing Plan'!G19 -> 0 | D13: Calculated automatically. No action required
A14: =IF(OR('Year 1 Budget'!A14="", 'Year 1 Budget'!A14=0),"",'Year 1 Budget'!A14) | D14: A14 has been automatically populated from Year 1 Budget A14. Complete B14:C14. If there is no expense in this particular year, enter "0". The yellow highlighting will disappear once all required cells have been completed.
A15: =IF(OR('Year 1 Budget'!A15="", 'Year 1 Budget'!A15=0),"",'Year 1 Budget'!A15) | D15: A15 has been automatically populated from Year 1 Budget A15. Complete B15:C15. If there is no expense in this particular year, enter "0". The yellow highlighting will disappear once all required cells have been completed.
A16: =IF(OR('Year 1 Budget'!A16="", 'Year 1 Budget'!A16=0),"",'Year 1 Budget'!A16) | D16: A16 has been automatically populated from Year 1 Budget A16. Complete B16:C16. If there is no expense in this particular year, enter "0". The yellow highlighting will disappear once all required cells have been completed.
A17: =IF(OR('Year 1 Budget'!A17="", 'Year 1 Budget'!A17=0),"",'Year 1 Budget'!A17) | D17: A17 has been automatically populated from Year 1 Budget A17. Complete B17:C17. If there is no expense in this particular year, enter "0". The yellow highlighting will disappear once all required cells have been completed.
A18: =IF(OR('Year 1 Budget'!A18="", 'Year 1 Budget'!A18=0),"",'Year 1 Budget'!A18) | D18: A18 has been automatically populated from Year 1 Budget A18. Complete B18:C18. If there is no expense in this particular year, enter "0". The yellow highlighting will disappear once all required cells have been completed.
A19: =IF(OR('Year 1 Budget'!A19="", 'Year 1 Budget'!A19=0),"",'Year 1 Budget'!A19) | D19: A19 has been automatically populated from Year 1 Budget A19. Complete B19:C19. If there is no expense in this particular year, enter "0". The yellow highlighting will disappear once all required cells have been completed.
A20: =IF(OR('Year 1 Budget'!A20="", 'Year 1 Budget'!A20=0),"",'Year 1 Budget'!A20) | D20: A20 has been automatically populated from Year 1 Budget A20. Complete B20:C20. If there is no expense in this particular year, enter "0". The yellow highlighting will disappear once all required cells have been completed.
A21: =IF(OR('Year 1 Budget'!A21="", 'Year 1 Budget'!A21=0),"",'Year 1 Budget'!A21) | D21: A21 has been automatically populated from Year 1 Budget A21. Complete B21:C21. If there is no expense in this particular year, enter "0". The yellow highlighting will disappear once all required cells have been completed.
A22: =IF(OR('Year 1 Budget'!A22="", 'Year 1 Budget'!A22=0),"",'Year 1 Budget'!A22) | D22: A22 has been automatically populated from Year 1 Budget A22. Complete B22:C22. If there is no expense in this particular year, enter "0". The yellow highlighting will disappear once all required cells have been completed.
A23: =IF(OR('Year 1 Budget'!A23="", 'Year 1 Budget'!A23=0),"",'Year 1 Budget'!A23) | D23: A23 has been automatically populated from Year 1 Budget A23. Complete B23:C23. If there is no expense in this particular year, enter "0". The yellow highlighting will disappear once all required cells have been completed.
A24: =IF(OR('Year 1 Budget'!A24="", 'Year 1 Budget'!A24=0),"",'Year 1 Budget'!A24) | D24: A24 has been automatically populated from Year 1 Budget A24. Complete B24:C24. If there is no expense in this particular year, enter "0". The yellow highlighting will disappear once all required cells have been completed.
A25: =IF(OR('Year 1 Budget'!A25="", 'Year 1 Budget'!A25=0),"",'Year 1 Budget'!A25) | D25: A25 has been automatically populated from Year 1 Budget A25. Complete B25:C25. If there is no expense in this particular year, enter "0". The yellow highlighting will disappear once all required cells have been completed.
A26: =IF(OR('Year 1 Budget'!A26="", 'Year 1 Budget'!A26=0),"",'Year 1 Budget'!A26) | D26: A26 has been automatically populated from Year 1 Budget A26. Complete B26:C26. If there is no expense in this particular year, enter "0". The yellow highlighting will disappear once all required cells have been completed.
A27: Total Expenses | B27: =SUM(B13:B26) -> 0 | D27: Calculated automatically. No action required
A28: YEAR 3 PRIORITY (Required)
A29: (narrative) | D29: Complete the Year 2 Priority (Narrative)
A30: Specific Virtual/ Blended Expenses | C30: Justification/Comments
A31: =IF(OR('Year 1 Budget'!A31="", 'Year 1 Budget'!A31=0),"",'Year 1 Budget'!A31) | D31: A31 has been automatically populated from Year 1 Budget A31. Complete B31:C31. If there is no expense in this particular year, enter "0". The yellow highlighting will disappear once all required cells have been completed.
A32: =IF(OR('Year 1 Budget'!A32="", 'Year 1 Budget'!A32=0),"",'Year 1 Budget'!A32) | D32: A32 has been automatically populated from Year 1 Budget A32. Complete B32:C32. If there is no expense in this particular year, enter "0". The yellow highlighting will disappear once all required cells have been completed.
A33: =IF(OR('Year 1 Budget'!A33="", 'Year 1 Budget'!A33=0),"",'Year 1 Budget'!A33) | D33: A33 has been automatically populated from Year 1 Budget A33. Complete B33:C33. If there is no expense in this particular year, enter "0". The yellow highlighting will disappear once all required cells have been completed.
A34: =IF(OR('Year 1 Budget'!A34="", 'Year 1 Budget'!A34=0),"",'Year 1 Budget'!A34) | D34: A34 has been automatically populated from Year 1 Budget A34. Complete B34:C34. If there is no expense in this particular year, enter "0". The yellow highlighting will disappear once all required cells have been completed.
A35: =IF(OR('Year 1 Budget'!A35="", 'Year 1 Budget'!A35=0),"",'Year 1 Budget'!A35) | D35: A35 has been automatically populated from Year 1 Budget A35. Complete B35:C35. If there is no expense in this particular year, enter "0". The yellow highlighting will disappear once all required cells have been completed.
A36: Total Virtual Blended Expenses | B36: =SUM(B31:B35) -> 0 | D36: Calculated automatically. No action required
A37: Overall Total Expenses | B37: =B36+B27 -> 0 | D37: Calculated automatically. No action required
A38: Net Contribution | B38: =B11-B37 -> 0 | D38: Calculated automatically. No action required

Sheet Year 4 Budget
A1: INSTRUCTIONS: The Revenue sources (A6 - A10) and Expenses (A14-A26) categories have been auto-populated from the Year 1 Budget sheet. The amounts (Column B) entered in Year 4 will be auto-populated in the Consolidated Budget sheet. 1. Complete the Year 4 budget amounts (column B) by including all anticipated expenses and identifying all revenue sources. If there is no revenue or expense for that year, enter "0". 2. Provide a short justification for each line item in Column C. This justification should briefly explain the purpose of the expense, how the cost was determined. 3. Identify budget priority for the year and provide a brief explanation of how this priority aligns with its goals. 4. If the school operates a virtual or blended program, it must also list any specific expenses related solely to that program.
A2: YEAR 4 BUDGET
B3: YEAR 4 | C3: Justification/Comments
A4: Revenue
A5: State Per Pupil | B5: =(Enrollment!J48)*('Consolidated Budget'!B5) -> 0 | D5: Calculated automatically. No action required
A6: =IF(OR('Year 1 Budget'!A6="", 'Year 1 Budget'!A6=0),"",'Year 1 Budget'!A6) | D6: A6 has been automatically populated from Year 1 Budget A6. Complete B6:C6. If there is no revenue in this particular year, enter "0". The yellow highlighting will disappear once all required cells have been completed.
A7: =IF(OR('Year 1 Budget'!A7="", 'Year 1 Budget'!A7=0),"",'Year 1 Budget'!A7) | D7: A7 has been automatically populated from Year 1 Budget A7. Complete B7:C7. If there is no revenue in this particular year, enter "0". The yellow highlighting will disappear once all required cells have been completed.
A8: =IF(OR('Year 1 Budget'!A8="", 'Year 1 Budget'!A8=0),"",'Year 1 Budget'!A8) | D8: A8 has been automatically populated from Year 1 Budget A8. Complete B8:C8. If there is no revenue in this particular year, enter "0". The yellow highlighting will disappear once all required cells have been completed.
A9: =IF(OR('Year 1 Budget'!A9="", 'Year 1 Budget'!A9=0),"",'Year 1 Budget'!A9) | D9: A9 has been automatically populated from Year 1 Budget A9. Complete B9:C9. If there is no revenue in this particular year, enter "0". The yellow highlighting will disappear once all required cells have been completed.
A10: =IF(OR('Year 1 Budget'!A10="", 'Year 1 Budget'!A10=0),"",'Year 1 Budget'!A10) | D10: A10 has been automatically populated from Year 1 Budget A10. Complete B10:C10. If there is no revenue in this particular year, enter "0". The yellow highlighting will disappear once all required cells have been completed.
A11: Total Revenue | B11: =SUM(B5:B10) -> 0 | D11: Calculated automatically. No action required
A12: Expenses | C12: Justification/Comments
A13: Salaries | B13: ='Financial Staffing Plan'!I19 -> 0 | D13: Calculated automatically. No action required
A14: =IF(OR('Year 1 Budget'!A14="", 'Year 1 Budget'!A14=0),"",'Year 1 Budget'!A14) | D14: A14 has been automatically populated from Year 1 Budget A14. Complete B14:C14. If there is no expense in this particular year, enter "0". The yellow highlighting will disappear once all required cells have been completed.
A15: =IF(OR('Year 1 Budget'!A15="", 'Year 1 Budget'!A15=0),"",'Year 1 Budget'!A15) | D15: A15 has been automatically populated from Year 1 Budget A15. Complete B15:C15. If there is no expense in this particular year, enter "0". The yellow highlighting will disappear once all required cells have been completed.
A16: =IF(OR('Year 1 Budget'!A16="", 'Year 1 Budget'!A16=0),"",'Year 1 Budget'!A16) | D16: A16 has been automatically populated from Year 1 Budget A16. Complete B16:C16. If there is no expense in this particular year, enter "0". The yellow highlighting will disappear once all required cells have been completed.
A17: =IF(OR('Year 1 Budget'!A17="", 'Year 1 Budget'!A17=0),"",'Year 1 Budget'!A17) | D17: A17 has been automatically populated from Year 1 Budget A17. Complete B17:C17. If there is no expense in this particular year, enter "0". The yellow highlighting will disappear once all required cells have been completed.
A18: =IF(OR('Year 1 Budget'!A18="", 'Year 1 Budget'!A18=0),"",'Year 1 Budget'!A18) | D18: A18 has been automatically populated from Year 1 Budget A18. Complete B18:C18. If there is no expense in this particular year, enter "0". The yellow highlighting will disappear once all required cells have been completed.
A19: =IF(OR('Year 1 Budget'!A19="", 'Year 1 Budget'!A19=0),"",'Year 1 Budget'!A19) | D19: A19 has been automatically populated from Year 1 Budget A19. Complete B19:C19. If there is no expense in this particular year, enter "0". The yellow highlighting will disappear once all required cells have been completed.
A20: =IF(OR('Year 1 Budget'!A20="", 'Year 1 Budget'!A20=0),"",'Year 1 Budget'!A20) | D20: A20 has been automatically populated from Year 1 Budget A20. Complete B20:C20. If there is no expense in this particular year, enter "0". The yellow highlighting will disappear once all required cells have been completed.
A21: =IF(OR('Year 1 Budget'!A21="", 'Year 1 Budget'!A21=0),"",'Year 1 Budget'!A21) | D21: A21 has been automatically populated from Year 1 Budget A21. Complete B21:C21. If there is no expense in this particular year, enter "0". The yellow highlighting will disappear once all required cells have been completed.
A22: =IF(OR('Year 1 Budget'!A22="", 'Year 1 Budget'!A22=0),"",'Year 1 Budget'!A22) | D22: A22 has been automatically populated from Year 1 Budget A22. Complete B22:C22. If there is no expense in this particular year, enter "0". The yellow highlighting will disappear once all required cells have been completed.
A23: =IF(OR('Year 1 Budget'!A23="", 'Year 1 Budget'!A23=0),"",'Year 1 Budget'!A23) | D23: A23 has been automatically populated from Year 1 Budget A23. Complete B23:C23. If there is no expense in this particular year, enter "0". The yellow highlighting will disappear once all required cells have been completed.
A24: =IF(OR('Year 1 Budget'!A24="", 'Year 1 Budget'!A24=0),"",'Year 1 Budget'!A24) | D24: A24 has been automatically populated from Year 1 Budget A24. Complete B24:C24. If there is no expense in this particular year, enter "0". The yellow highlighting will disappear once all required cells have been completed.
A25: =IF(OR('Year 1 Budget'!A25="", 'Year 1 Budget'!A25=0),"",'Year 1 Budget'!A25) | D25: A25 has been automatically populated from Year 1 Budget A25. Complete B25:C25. If there is no expense in this particular year, enter "0". The yellow highlighting will disappear once all required cells have been completed.
A26: =IF(OR('Year 1 Budget'!A26="", 'Year 1 Budget'!A26=0),"",'Year 1 Budget'!A26) | D26: A26 has been automatically populated from Year 1 Budget A26. Complete B26:C26. If there is no expense in this particular year, enter "0". The yellow highlighting will disappear once all required cells have been completed.
A27: Total Expenses | B27: =SUM(B13:B26) -> 0 | D27: Calculated automatically. No action required
A28: YEAR 4 PRIORITY (Required)
A29: (narrative) | D29: Complete the Year 2 Priority (Narrative)
A30: Specific Virtual/ Blended Expenses | C30: Justification/Comments
A31: =IF(OR('Year 1 Budget'!A31="", 'Year 1 Budget'!A31=0),"",'Year 1 Budget'!A31) | D31: A31 has been automatically populated from Year 1 Budget A31. Complete B31:C31. If there is no expense in this particular year, enter "0". The yellow highlighting will disappear once all required cells have been completed.
A32: =IF(OR('Year 1 Budget'!A32="", 'Year 1 Budget'!A32=0),"",'Year 1 Budget'!A32) | D32: A32 has been automatically populated from Year 1 Budget A32. Complete B32:C32. If there is no expense in this particular year, enter "0". The yellow highlighting will disappear once all required cells have been completed.
A33: =IF(OR('Year 1 Budget'!A33="", 'Year 1 Budget'!A33=0),"",'Year 1 Budget'!A33) | D33: A33 has been automatically populated from Year 1 Budget A33. Complete B33:C33. If there is no expense in this particular year, enter "0". The yellow highlighting will disappear once all required cells have been completed.
A34: =IF(OR('Year 1 Budget'!A34="", 'Year 1 Budget'!A34=0),"",'Year 1 Budget'!A34) | D34: A34 has been automatically populated from Year 1 Budget A34. Complete B34:C34. If there is no expense in this particular year, enter "0". The yellow highlighting will disappear once all required cells have been completed.
A35: =IF(OR('Year 1 Budget'!A35="", 'Year 1 Budget'!A35=0),"",'Year 1 Budget'!A35) | D35: A35 has been automatically populated from Year 1 Budget A35. Complete B35:C35. If there is no expense in this particular year, enter "0". The yellow highlighting will disappear once all required cells have been completed.
A36: Total Virtual Blended Expenses | B36: =SUM(B31:B35) -> 0 | D36: Calculated automatically. No action required
A37: Overall Total Expenses | B37: =B36+B27 -> 0 | D37: Calculated automatically. No action required
A38: Net Contribution | B38: =B11-B37 -> 0 | D38: Calculated automatically. No action required

Sheet Year 5 Budget
A1: INSTRUCTIONS: The Revenue sources (A6 - A10) and Expenses (A14-A26) categories have been auto-populated from the Year 1 Budget sheet. The amounts (Column B) entered in Year 5 will be auto-populated in the Consolidated Budget sheet. 1. Complete the Year 5 budget amounts (Column B) by including all anticipated expenses and identifying all revenue sources. If there is no revenue or expense for that year, enter "0". 2. Provide a short justification for each line item in Column C. This justification should briefly explain the purpose of the expense, how the cost was determined. 3. Identify budget priority for the year and provide a brief explanation of how this priority aligns with its goals. 4. If the school operates a virtual or blended program, it must also list any specific expenses related solely to that program.
A2: YEAR 5 BUDGET
B3: YEAR 5 | C3: Justification/Comments
A4: Revenue
A5: State Per Pupil | B5: =(Enrollment!K48)*('Consolidated Budget'!B5) -> 0 | D5: Calculated automatically. No action required
A6: =IF(OR('Year 1 Budget'!A6="", 'Year 1 Budget'!A6=0),"",'Year 1 Budget'!A6) | D6: A6 has been automatically populated from Year 1 Budget A6. Complete B6:C6. If there is no revenue in this particular year, enter "0". The yellow highlighting will disappear once all required cells have been completed.
A7: =IF(OR('Year 1 Budget'!A7="", 'Year 1 Budget'!A7=0),"",'Year 1 Budget'!A7) | D7: A7 has been automatically populated from Year 1 Budget A7. Complete B7:C7. If there is no revenue in this particular year, enter "0". The yellow highlighting will disappear once all required cells have been completed.
A8: =IF(OR('Year 1 Budget'!A8="", 'Year 1 Budget'!A8=0),"",'Year 1 Budget'!A8) | D8: A8 has been automatically populated from Year 1 Budget A8. Complete B8:C8. If there is no revenue in this particular year, enter "0". The yellow highlighting will disappear once all required cells have been completed.
A9: =IF(OR('Year 1 Budget'!A9="", 'Year 1 Budget'!A9=0),"",'Year 1 Budget'!A9) | D9: A9 has been automatically populated from Year 1 Budget A9. Complete B9:C9. If there is no revenue in this particular year, enter "0". The yellow highlighting will disappear once all required cells have been completed.
A10: =IF(OR('Year 1 Budget'!A10="", 'Year 1 Budget'!A10=0),"",'Year 1 Budget'!A10) | D10: A10 has been automatically populated from Year 1 Budget A10. Complete B10:C10. If there is no revenue in this particular year, enter "0". The yellow highlighting will disappear once all required cells have been completed.
A11: Total Revenue | B11: =SUM(B5:B10) -> 0 | D11: Calculated automatically. No action required
A12: Expenses | C12: Justification/Comments
A13: Salaries | B13: ='Financial Staffing Plan'!K19 -> 0 | D13: Calculated automatically. No action required
A14: =IF(OR('Year 1 Budget'!A14="", 'Year 1 Budget'!A14=0),"",'Year 1 Budget'!A14) | D14: A14 has been automatically populated from Year 1 Budget A14. Complete B14:C14. If there is no expense in this particular year, enter "0". The yellow highlighting will disappear once all required cells have been completed.
A15: =IF(OR('Year 1 Budget'!A15="", 'Year 1 Budget'!A15=0),"",'Year 1 Budget'!A15) | D15: A15 has been automatically populated from Year 1 Budget A15. Complete B15:C15. If there is no expense in this particular year, enter "0". The yellow highlighting will disappear once all required cells have been completed.
A16: =IF(OR('Year 1 Budget'!A16="", 'Year 1 Budget'!A16=0),"",'Year 1 Budget'!A16) | D16: A16 has been automatically populated from Year 1 Budget A16. Complete B16:C16. If there is no expense in this particular year, enter "0". The yellow highlighting will disappear once all required cells have been completed.
A17: =IF(OR('Year 1 Budget'!A17="", 'Year 1 Budget'!A17=0),"",'Year 1 Budget'!A17) | D17: A17 has been automatically populated from Year 1 Budget A17. Complete B17:C17. If there is no expense in this particular year, enter "0". The yellow highlighting will disappear once all required cells have been completed.
A18: =IF(OR('Year 1 Budget'!A18="", 'Year 1 Budget'!A18=0),"",'Year 1 Budget'!A18) | D18: A18 has been automatically populated from Year 1 Budget A18. Complete B18:C18. If there is no expense in this particular year, enter "0". The yellow highlighting will disappear once all required cells have been completed.
A19: =IF(OR('Year 1 Budget'!A19="", 'Year 1 Budget'!A19=0),"",'Year 1 Budget'!A19) | D19: A19 has been automatically populated from Year 1 Budget A19. Complete B19:C19. If there is no expense in this particular year, enter "0". The yellow highlighting will disappear once all required cells have been completed.
A20: =IF(OR('Year 1 Budget'!A20="", 'Year 1 Budget'!A20=0),"",'Year 1 Budget'!A20) | D20: A20 has been automatically populated from Year 1 Budget A20. Complete B20:C20. If there is no expense in this particular year, enter "0". The yellow highlighting will disappear once all required cells have been completed.
A21: =IF(OR('Year 1 Budget'!A21="", 'Year 1 Budget'!A21=0),"",'Year 1 Budget'!A21) | D21: A21 has been automatically populated from Year 1 Budget A21. Complete B21:C21. If there is no expense in this particular year, enter "0". The yellow highlighting will disappear once all required cells have been completed.
A22: =IF(OR('Year 1 Budget'!A22="", 'Year 1 Budget'!A22=0),"",'Year 1 Budget'!A22) | D22: A22 has been automatically populated from Year 1 Budget A22. Complete B22:C22. If there is no expense in this particular year, enter "0". The yellow highlighting will disappear once all required cells have been completed.
A23: =IF(OR('Year 1 Budget'!A23="", 'Year 1 Budget'!A23=0),"",'Year 1 Budget'!A23) | D23: A23 has been automatically populated from Year 1 Budget A23. Complete B23:C23. If there is no expense in this particular year, enter "0". The yellow highlighting will disappear once all required cells have been completed.
A24: =IF(OR('Year 1 Budget'!A24="", 'Year 1 Budget'!A24=0),"",'Year 1 Budget'!A24) | D24: A24 has been automatically populated from Year 1 Budget A24. Complete B24:C24. If there is no expense in this particular year, enter "0". The yellow highlighting will disappear once all required cells have been completed.
A25: =IF(OR('Year 1 Budget'!A25="", 'Year 1 Budget'!A25=0),"",'Year 1 Budget'!A25) | D25: A25 has been automatically populated from Year 1 Budget A25. Complete B25:C25. If there is no expense in this particular year, enter "0". The yellow highlighting will disappear once all required cells have been completed.
A26: =IF(OR('Year 1 Budget'!A26="", 'Year 1 Budget'!A26=0),"",'Year 1 Budget'!A26) | D26: A26 has been automatically populated from Year 1 Budget A26. Complete B26:C26. If there is no expense in this particular year, enter "0". The yellow highlighting will disappear once all required cells have been completed.
A27: Total Expenses | B27: =SUM(B13:B26) -> 0 | D27: Calculated automatically. No action required
A28: YEAR 5 PRIORITY (Required)
A29: (narrative) | D29: Complete the Year 2 Priority (Narrative)
A30: Specific Virtual/ Blended Expenses | C30: Justification/Comments
A31: =IF(OR('Year 1 Budget'!A31="", 'Year 1 Budget'!A31=0),"",'Year 1 Budget'!A31) | D31: A31 has been automatically populated from Year 1 Budget A31. Complete B31:C31. If there is no expense in this particular year, enter "0". The yellow highlighting will disappear once all required cells have been completed.
A32: =IF(OR('Year 1 Budget'!A32="", 'Year 1 Budget'!A32=0),"",'Year 1 Budget'!A32) | D32: A32 has been automatically populated from Year 1 Budget A32. Complete B32:C32. If there is no expense in this particular year, enter "0". The yellow highlighting will disappear once all required cells have been completed.
A33: =IF(OR('Year 1 Budget'!A33="", 'Year 1 Budget'!A33=0),"",'Year 1 Budget'!A33) | D33: A33 has been automatically populated from Year 1 Budget A33. Complete B33:C33. If there is no expense in this particular year, enter "0". The yellow highlighting will disappear once all required cells have been completed.
A34: =IF(OR('Year 1 Budget'!A34="", 'Year 1 Budget'!A34=0),"",'Year 1 Budget'!A34) | D34: A34 has been automatically populated from Year 1 Budget A34. Complete B34:C34. If there is no expense in this particular year, enter "0". The yellow highlighting will disappear once all required cells have been completed.
A35: =IF(OR('Year 1 Budget'!A35="", 'Year 1 Budget'!A35=0),"",'Year 1 Budget'!A35) | D35: A35 has been automatically populated from Year 1 Budget A35. Complete B35:C35. If there is no expense in this particular year, enter "0". The yellow highlighting will disappear once all required cells have been completed.
A36: Total Virtual Blended Expenses | B36: =SUM(B31:B35) -> 0 | D36: Calculated automatically. No action required
A37: Overall Total Expenses | B37: =B36+B27 -> 0 | D37: Calculated automatically. No action required
A38: Net Contribution | B38: =B11-B37 -> 0 | D38: Calculated automatically. No action required

Sheet Consolidated Budget
A1: The consolidated budget worksheet has been populated from Years 1 - 5 budgets. Revenue Sources and Expense categories are pulled from Year 1.
A2: CONSOLIDATED BUDGET
C3: Year 1 | D3: Year 2 | E3: Year 3 | F3: Year 4 | G3: Year 5
A4: Revenue
A5: State Per Pupil | B5: 11400 | C5: =(Enrollment!G48)*$B$5 -> 0 | D5: =(Enrollment!H48)*$B$5 -> 0 | E5: =(Enrollment!I48)*$B$5 -> 0 | F5: =(Enrollment!J48)*$B$5 -> 0 | G5: =(Enrollment!K48)*$B$5 -> 0
A6: =IF(OR('Year 1 Budget'!A6="", 'Year 1 Budget'!A6=0),"",'Year 1 Budget'!A6) | C6: =IF(OR('Year 1 Budget'!B6="", 'Year 1 Budget'!B6=0),"",'Year 1 Budget'!B6) | D6: =IF(OR('Year 2 Budget'!B6="", 'Year 2 Budget'!B6=0),"",'Year 2 Budget'!B6) | E6: =IF(OR('Year 3 Budget'!B6="", 'Year 3 Budget'!B6=0),"",'Year 3 Budget'!B6) | F6: =IF(OR('Year 4 Budget'!B6="", 'Year 4 Budget'!B6=0),"",'Year 4 Budget'!B6) | G6: =IF(OR('Year 5 Budget'!B6="", 'Year 5 Budget'!B6=0),"",'Year 5 Budget'!B6)
A7: =IF(OR('Year 1 Budget'!A7="", 'Year 1 Budget'!A7=0),"",'Year 1 Budget'!A7) | C7: =IF(OR('Year 1 Budget'!B7="", 'Year 1 Budget'!B7=0),"",'Year 1 Budget'!B7) | D7: =IF(OR('Year 2 Budget'!B7="", 'Year 2 Budget'!B7=0),"",'Year 2 Budget'!B7) | E7: =IF(OR('Year 3 Budget'!B7="", 'Year 3 Budget'!B7=0),"",'Year 3 Budget'!B7) | F7: =IF(OR('Year 4 Budget'!B7="", 'Year 4 Budget'!B7=0),"",'Year 4 Budget'!B7) | G7: =IF(OR('Year 5 Budget'!B7="", 'Year 5 Budget'!B7=0),"",'Year 5 Budget'!B7)
A8: =IF(OR('Year 1 Budget'!A8="", 'Year 1 Budget'!A8=0),"",'Year 1 Budget'!A8) | C8: =IF(OR('Year 1 Budget'!B8="", 'Year 1 Budget'!B8=0),"",'Year 1 Budget'!B8) | D8: =IF(OR('Year 2 Budget'!B8="", 'Year 2 Budget'!B8=0),"",'Year 2 Budget'!B8) | E8: =IF(OR('Year 3 Budget'!B8="", 'Year 3 Budget'!B8=0),"",'Year 3 Budget'!B8) | F8: =IF(OR('Year 4 Budget'!B8="", 'Year 4 Budget'!B8=0),"",'Year 4 Budget'!B8) | G8: =IF(OR('Year 5 Budget'!B8="", 'Year 5 Budget'!B8=0),"",'Year 5 Budget'!B8)
A9: =IF(OR('Year 1 Budget'!A9="", 'Year 1 Budget'!A9=0),"",'Year 1 Budget'!A9) | C9: =IF(OR('Year 1 Budget'!B9="", 'Year 1 Budget'!B9=0),"",'Year 1 Budget'!B9) | D9: =IF(OR('Year 2 Budget'!B9="", 'Year 2 Budget'!B9=0),"",'Year 2 Budget'!B9) | E9: =IF(OR('Year 3 Budget'!B9="", 'Year 3 Budget'!B9=0),"",'Year 3 Budget'!B9) | F9: =IF(OR('Year 4 Budget'!B9="", 'Year 4 Budget'!B9=0),"",'Year 4 Budget'!B9) | G9: =IF(OR('Year 5 Budget'!B9="", 'Year 5 Budget'!B9=0),"",'Year 5 Budget'!B9)
A10: =IF(OR('Year 1 Budget'!A10="", 'Year 1 Budget'!A10=0),"",'Year 1 Budget'!A10) | C10: =IF(OR('Year 1 Budget'!B10="", 'Year 1 Budget'!B10=0),"",'Year 1 Budget'!B10) | D10: =IF(OR('Year 2 Budget'!B10="", 'Year 2 Budget'!B10=0),"",'Year 2 Budget'!B10) | E10: =IF(OR('Year 3 Budget'!B10="", 'Year 3 Budget'!B10=0),"",'Year 3 Budget'!B10) | F10: =IF(OR('Year 4 Budget'!B10="", 'Year 4 Budget'!B10=0),"",'Year 4 Budget'!B10) | G10: =IF(OR('Year 5 Budget'!B10="", 'Year 5 Budget'!B10=0),"",'Year 5 Budget'!B10)
A11: Total Revenue | C11: =SUM(C5:C10) -> 0 | D11: =SUM(D5:D8) -> 0 | E11: =SUM(E5:E8) -> 0 | F11: =SUM(F5:F8) -> 0 | G11: =SUM(G5:G8) -> 0
A12: Expenses
A13: Salaries | C13: ='Financial Staffing Plan'!C19 -> 0 | D13: ='Financial Staffing Plan'!E19 -> 0 | E13: ='Financial Staffing Plan'!G19 -> 0 | F13: ='Financial Staffing Plan'!I19 -> 0 | G13: ='Financial Staffing Plan'!K19 -> 0
A14: =IF(OR('Year 1 Budget'!A14="", 'Year 1 Budget'!A14=0),"",'Year 1 Budget'!A14) | C14: =IF(OR('Year 1 Budget'!B14="", 'Year 1 Budget'!B14=0),"",'Year 1 Budget'!B14) | D14: =IF(OR('Year 2 Budget'!B14="", 'Year 2 Budget'!B14=0),"",'Year 2 Budget'!B14) | E14: =IF(OR('Year 3 Budget'!B14="", 'Year 3 Budget'!B14=0),"",'Year 3 Budget'!B14) | F14: =IF(OR('Year 4 Budget'!B14="", 'Year 4 Budget'!B14=0),"",'Year 4 Budget'!B14) | G14: =IF(OR('Year 5 Budget'!B14="", 'Year 5 Budget'!B14=0),"",'Year 5 Budget'!B14)
A15: =IF(OR('Year 1 Budget'!A15="", 'Year 1 Budget'!A15=0),"",'Year 1 Budget'!A15) | C15: =IF(OR('Year 1 Budget'!B15="", 'Year 1 Budget'!B15=0),"",'Year 1 Budget'!B15) | D15: =IF(OR('Year 2 Budget'!B15="", 'Year 2 Budget'!B15=0),"",'Year 2 Budget'!B15) | E15: =IF(OR('Year 3 Budget'!B15="", 'Year 3 Budget'!B15=0),"",'Year 3 Budget'!B15) | F15: =IF(OR('Year 4 Budget'!B15="", 'Year 4 Budget'!B15=0),"",'Year 4 Budget'!B15) | G15: =IF(OR('Year 5 Budget'!B15="", 'Year 5 Budget'!B15=0),"",'Year 5 Budget'!B15)
A16: =IF(OR('Year 1 Budget'!A16="", 'Year 1 Budget'!A16=0),"",'Year 1 Budget'!A16) | C16: =IF(OR('Year 1 Budget'!B16="", 'Year 1 Budget'!B16=0),"",'Year 1 Budget'!B16) | D16: =IF(OR('Year 2 Budget'!B16="", 'Year 2 Budget'!B16=0),"",'Year 2 Budget'!B16) | E16: =IF(OR('Year 3 Budget'!B16="", 'Year 3 Budget'!B16=0),"",'Year 3 Budget'!B16) | F16: =IF(OR('Year 4 Budget'!B16="", 'Year 4 Budget'!B16=0),"",'Year 4 Budget'!B16) | G16: =IF(OR('Year 5 Budget'!B16="", 'Year 5 Budget'!B16=0),"",'Year 5 Budget'!B16)
A17: =IF(OR('Year 1 Budget'!A17="", 'Year 1 Budget'!A17=0),"",'Year 1 Budget'!A17) | C17: =IF(OR('Year 1 Budget'!B17="", 'Year 1 Budget'!B17=0),"",'Year 1 Budget'!B17) | D17: =IF(OR('Year 2 Budget'!B17="", 'Year 2 Budget'!B17=0),"",'Year 2 Budget'!B17) | E17: =IF(OR('Year 3 Budget'!B17="", 'Year 3 Budget'!B17=0),"",'Year 3 Budget'!B17) | F17: =IF(OR('Year 4 Budget'!B17="", 'Year 4 Budget'!B17=0),"",'Year 4 Budget'!B17) | G17: =IF(OR('Year 5 Budget'!B17="", 'Year 5 Budget'!B17=0),"",'Year 5 Budget'!B17)
A18: =IF(OR('Year 1 Budget'!A18="", 'Year 1 Budget'!A18=0),"",'Year 1 Budget'!A18) | C18: =IF(OR('Year 1 Budget'!B18="", 'Year 1 Budget'!B18=0),"",'Year 1 Budget'!B18) | D18: =IF(OR('Year 2 Budget'!B18="", 'Year 2 Budget'!B18=0),"",'Year 2 Budget'!B18) | E18: =IF(OR('Year 3 Budget'!B18="", 'Year 3 Budget'!B18=0),"",'Year 3 Budget'!B18) | F18: =IF(OR('Year 4 Budget'!B18="", 'Year 4 Budget'!B18=0),"",'Year 4 Budget'!B18) | G18: =IF(OR('Year 5 Budget'!B18="", 'Year 5 Budget'!B18=0),"",'Year 5 Budget'!B18)
A19: =IF(OR('Year 1 Budget'!A19="", 'Year 1 Budget'!A19=0),"",'Year 1 Budget'!A19) | C19: =IF(OR('Year 1 Budget'!B19="", 'Year 1 Budget'!B19=0),"",'Year 1 Budget'!B19) | D19: =IF(OR('Year 2 Budget'!B19="", 'Year 2 Budget'!B19=0),"",'Year 2 Budget'!B19) | E19: =IF(OR('Year 3 Budget'!B19="", 'Year 3 Budget'!B19=0),"",'Year 3 Budget'!B19) | F19: =IF(OR('Year 4 Budget'!B19="", 'Year 4 Budget'!B19=0),"",'Year 4 Budget'!B19) | G19: =IF(OR('Year 5 Budget'!B19="", 'Year 5 Budget'!B19=0),"",'Year 5 Budget'!B19)
A20: =IF(OR('Year 1 Budget'!A20="", 'Year 1 Budget'!A20=0),"",'Year 1 Budget'!A20) | C20: =IF(OR('Year 1 Budget'!B20="", 'Year 1 Budget'!B20=0),"",'Year 1 Budget'!B20) | D20: =IF(OR('Year 2 Budget'!B20="", 'Year 2 Budget'!B20=0),"",'Year 2 Budget'!B20) | E20: =IF(OR('Year 3 Budget'!B20="", 'Year 3 Budget'!B20=0),"",'Year 3 Budget'!B20) | F20: =IF(OR('Year 4 Budget'!B20="", 'Year 4 Budget'!B20=0),"",'Year 4 Budget'!B20) | G20: =IF(OR('Year 5 Budget'!B20="", 'Year 5 Budget'!B20=0),"",'Year 5 Budget'!B20)
A21: =IF(OR('Year 1 Budget'!A21="", 'Year 1 Budget'!A21=0),"",'Year 1 Budget'!A21) | C21: =IF(OR('Year 1 Budget'!B21="", 'Year 1 Budget'!B21=0),"",'Year 1 Budget'!B21) | D21: =IF(OR('Year 2 Budget'!B21="", 'Year 2 Budget'!B21=0),"",'Year 2 Budget'!B21) | E21: =IF(OR('Year 3 Budget'!B21="", 'Year 3 Budget'!B21=0),"",'Year 3 Budget'!B21) | F21: =IF(OR('Year 4 Budget'!B21="", 'Year 4 Budget'!B21=0),"",'Year 4 Budget'!B21) | G21: =IF(OR('Year 5 Budget'!B21="", 'Year 5 Budget'!B21=0),"",'Year 5 Budget'!B21)
A22: =IF(OR('Year 1 Budget'!A22="", 'Year 1 Budget'!A22=0),"",'Year 1 Budget'!A22) | C22: =IF(OR('Year 1 Budget'!B22="", 'Year 1 Budget'!B22=0),"",'Year 1 Budget'!B22) | D22: =IF(OR('Year 2 Budget'!B22="", 'Year 2 Budget'!B22=0),"",'Year 2 Budget'!B22) | E22: =IF(OR('Year 3 Budget'!B22="", 'Year 3 Budget'!B22=0),"",'Year 3 Budget'!B22) | F22: =IF(OR('Year 4 Budget'!B22="", 'Year 4 Budget'!B22=0),"",'Year 4 Budget'!B22) | G22: =IF(OR('Year 5 Budget'!B22="", 'Year 5 Budget'!B22=0),"",'Year 5 Budget'!B22)
A23: =IF(OR('Year 1 Budget'!A23="", 'Year 1 Budget'!A23=0),"",'Year 1 Budget'!A23) | C23: =IF(OR('Year 1 Budget'!B23="", 'Year 1 Budget'!B23=0),"",'Year 1 Budget'!B23) | D23: =IF(OR('Year 2 Budget'!B23="", 'Year 2 Budget'!B23=0),"",'Year 2 Budget'!B23) | E23: =IF(OR('Year 3 Budget'!B23="", 'Year 3 Budget'!B23=0),"",'Year 3 Budget'!B23) | F23: =IF(OR('Year 4 Budget'!B23="", 'Year 4 Budget'!B23=0),"",'Year 4 Budget'!B23) | G23: =IF(OR('Year 5 Budget'!B23="", 'Year 5 Budget'!B23=0),"",'Year 5 Budget'!B23)
A24: =IF(OR('Year 1 Budget'!A24="", 'Year 1 Budget'!A24=0),"",'Year 1 Budget'!A24) | C24: =IF(OR('Year 1 Budget'!B24="", 'Year 1 Budget'!B24=0),"",'Year 1 Budget'!B24) | D24: =IF(OR('Year 2 Budget'!B24="", 'Year 2 Budget'!B24=0),"",'Year 2 Budget'!B24) | E24: =IF(OR('Year 3 Budget'!B24="", 'Year 3 Budget'!B24=0),"",'Year 3 Budget'!B24) | F24: =IF(OR('Year 4 Budget'!B24="", 'Year 4 Budget'!B24=0),"",'Year 4 Budget'!B24) | G24: =IF(OR('Year 5 Budget'!B24="", 'Year 5 Budget'!B24=0),"",'Year 5 Budget'!B24)
